BEGIN:VCALENDAR
VERSION:2.0
PRODID:-//CVS Falkirk - ECPv5.16.3.1//NONSGML v1.0//EN
CALSCALE:GREGORIAN
METHOD:PUBLISH
X-WR-CALNAME:CVS Falkirk
X-ORIGINAL-URL:https://www.cvsfalkirk.org.uk
X-WR-CALDESC:Events for CVS Falkirk
BEGIN:VTIMEZONE
TZID:Europe/London
BEGIN:DAYLIGHT
TZOFFSETFROM:+0000
TZOFFSETTO:+0100
TZNAME:BST
DTSTART:20260329T010000
END:DAYLIGHT
BEGIN:STANDARD
TZOFFSETFROM:+0100
TZOFFSETTO:+0000
TZNAME:GMT
DTSTART:20261025T010000
END:STANDARD
END:VTIMEZONE
BEGIN:VEVENT
DTSTART;TZID=Europe/London:20260422T093000
DTEND;TZID=Europe/London:20260422T133000
DTSTAMP:20260419T132503
CREATED:20260202T102215Z
LAST-MODIFIED:20260202T102215Z
UID:38300-1776850200-1776864600@www.cvsfalkirk.org.uk
SUMMARY:"Wave after Wave" Suicide Bereavement Training
DESCRIPTION:Staff and volunteers across Falkirk District are invited to take part in a new face-to-face learning opportunity being rolled out across Falkirk Health and Social Care Partnership (HSCP). \n“Wave after Wave – Providing a Compassionate Response after Suicide Bereavement” has been co-produced with people with lived experience by Glasgow City HSCP\, and is now being made available across Scotland. It is designed for staff\, volunteers and peer supporters working in frontline roles across health\, social care\, emergency services\, public health and the third sector. \nThe aim of the training is to ensure that anyone meeting people bereaved by suicide has a strong understanding of the complex nature and impact of suicide bereavement\, and feels confident in providing a compassionate\, empathetic response. \nThe Falkirk training takes place on: \n\nFebruary session: Thursday 19 February 2026\, 9:30 am – 1:30pm in the FDAMH office\, 173 Victoria Road\, Falkirk\, FK2 7AU\n\nFEBRUARY BOOKING LINK\n\n\nApril session: Wednesday 22 April 2026\, 9:30 am – 1:30pm in in the FDAMH office\, 173 Victoria Road\, Falkirk\, FK2 7AU\n\nAPRIL BOOKING LINK\n\n\n\nPlease note that places are limited\, and booking is essential. If a session becomes full and you are unable to register for your preferred session\, please contact the training team and register to be contacted about future dates currently being planned\, by email: fv.hisfalkirktraining@nhs.scot
URL:https://www.cvsfalkirk.org.uk/event/wave-after-wave-suicide-bereavement-training-2/
LOCATION:Falkirk District Association for Mental Health (FDAMH)\, 173 Victoria Road\, Falkirk\, FK2 7AU\, United Kingdom
ORGANIZER;CN="Falkirk%20Health%20and%20Social%20Care%20Partnership%20%28HSCP%29":MAILTO:integration@falkirk.gov.uk
END:VEVENT
BEGIN:VEVENT
DTSTART;TZID=Europe/London:20260422T100000
DTEND;TZID=Europe/London:20260422T110000
DTSTAMP:20260419T132503
CREATED:20260415T133725Z
LAST-MODIFIED:20260415T133725Z
UID:39003-1776852000-1776855600@www.cvsfalkirk.org.uk
SUMMARY:Falkirk Third Sector Employability Forum: April 2026 Meeting
DESCRIPTION:The next meeting of the Falkirk Third Sector Employability Forum takes place on Wednesday 22 April 2026\, 10am – 11am via Microsoft Teams. \nAs well as providing updates to forum members from the Falkirk Local Employability Partnership (LEP)\, this meeting will include an opportunity to discuss Strengthening and Developing the Third Sector Voice\, and the possibility of a Third Sector Employability Summit 2026. \nMinutes of the previous meeting in February are available to view or download as a pdf (linked for your convenience). \nTo register for a place at this forum meeting\, or for further information\, please contact Laura Jamieson by email: laura@cvsfalkirk.org.uk
URL:https://www.cvsfalkirk.org.uk/event/falkirk-third-sector-employability-forum-april-2026-meeting/
LOCATION:Online (Teams)
ORGANIZER;CN="CVS%20Falkirk%20%26%20District":MAILTO:info@cvsfalkirk.org.uk
END:VEVENT
END:VCALENDAR