BEGIN:VCALENDAR
VERSION:2.0
PRODID:-//CVS Falkirk - ECPv5.16.3.1//NONSGML v1.0//EN
CALSCALE:GREGORIAN
METHOD:PUBLISH
X-WR-CALNAME:CVS Falkirk
X-ORIGINAL-URL:https://www.cvsfalkirk.org.uk
X-WR-CALDESC:Events for CVS Falkirk
BEGIN:VTIMEZONE
TZID:Europe/London
BEGIN:DAYLIGHT
TZOFFSETFROM:+0000
TZOFFSETTO:+0100
TZNAME:BST
DTSTART:20260329T010000
END:DAYLIGHT
BEGIN:STANDARD
TZOFFSETFROM:+0100
TZOFFSETTO:+0000
TZNAME:GMT
DTSTART:20261025T010000
END:STANDARD
END:VTIMEZONE
BEGIN:VEVENT
DTSTART;TZID=Europe/London:20260319T100000
DTEND;TZID=Europe/London:20260319T120000
DTSTAMP:20260419T145802
CREATED:20251124T145816Z
LAST-MODIFIED:20251124T145816Z
UID:37468-1773914400-1773921600@www.cvsfalkirk.org.uk
SUMMARY:An Introduction to GIRFEC and the UNCRC: Online Webinar for the Third Sector
DESCRIPTION:Hosted by Children In Scotland’s ‘Supporting the Third Sector’ project team\, there will be two introductory webinars held in 2026 providing an overview of the Scottish policy context relevant to the third sector’s work with children\, young people and families. The sessions will involve an introduction to Getting It Right For Every Child (GIRFEC)\, Children’s Rights\, and the United Nations Convention on the Rights of the Child (UNCRC)\, before providing an exploration of how these key policies fit within the wider policy framework. \nTaking place from 10am–12pm\, on both Tuesday 20 January 2026 and Thursday 19 March 2026\, the key learning from these free webinars will include: \n\nRecognising the background to UNCRC and the four general principles\nIntroducing key elements of the wider Scottish policy context\, including the National Performance Framework\nOpportunity for attendees to reflect on their own practice.\n\nRegistration is required\, and can be done through the Children in Scotland website\, linked below: \n\n 10am–12pm\, Tuesday 20 January: Register for Session\n 10am–12pm\, Thursday 19 March: Register for Session\n\nFor further information\, please visit the Children in Scotland website (linked for your convenience).
URL:https://www.cvsfalkirk.org.uk/event/an-introduction-to-girfec-and-the-uncrc-online-webinar-for-the-third-sector-2/
LOCATION:Online (Zoom)
ORGANIZER;CN="Children%20in%20Scotland":MAILTO:info@childreninscotland.org.uk
END:VEVENT
END:VCALENDAR