BEGIN:VCALENDAR
VERSION:2.0
PRODID:-//CVS Falkirk - ECPv5.16.3.1//NONSGML v1.0//EN
CALSCALE:GREGORIAN
METHOD:PUBLISH
X-WR-CALNAME:CVS Falkirk
X-ORIGINAL-URL:https://www.cvsfalkirk.org.uk
X-WR-CALDESC:Events for CVS Falkirk
BEGIN:VTIMEZONE
TZID:Europe/London
BEGIN:DAYLIGHT
TZOFFSETFROM:+0000
TZOFFSETTO:+0100
TZNAME:BST
DTSTART:20260329T010000
END:DAYLIGHT
BEGIN:STANDARD
TZOFFSETFROM:+0100
TZOFFSETTO:+0000
TZNAME:GMT
DTSTART:20261025T010000
END:STANDARD
END:VTIMEZONE
BEGIN:VEVENT
DTSTART;TZID=Europe/London:20260317T100000
DTEND;TZID=Europe/London:20260317T160000
DTSTAMP:20260419T145327
CREATED:20260126T104324Z
LAST-MODIFIED:20260126T104324Z
UID:38112-1773741600-1773763200@www.cvsfalkirk.org.uk
SUMMARY:Falkirk Funders Fayre 2026
DESCRIPTION:Our team is delighted to announce that bookings for our FREE 2026 Falkirk Funders Fayre are now OPEN! \nThis means you can now book your free place via the Eventbrite page (linked for your convenience). \nTaking place on Tuesday 17 March 2026 in Grangemouth\, the event is designed to give the Falkirk District’s third sector\, charities\, community and voluntary organisations\, and social enterprises the opportunity to meet with a range of diverse funders\, and to learn about the various grant funding schemes available both nationally and locally. Attendees will also be able to ask questions and obtain information on how to apply\, and learn about the criteria funders use when assessing applications. \nTaking place at the Grangemouth Stadium\, Kersiebank Avenue\, Grangemouth\, FK3 0EE\, this year’s event will also offer a number of learning sessions throughout the day.  Our speakers will focus on a number of different topics\, including alternative funding options to traditional grant funding\, and the use of AI and its impact on funding applications. \nTo book your place\, including how to book your free place\, please visit the Eventbrite page\, or contact our team by phone: 01324 692000\, or email: info@cvsfalkirk.org.uk
URL:https://www.cvsfalkirk.org.uk/event/falkirk-funders-fayre-2026/
LOCATION:Grangemouth Stadium\, Kersiebank Avenue\, Grangemouth\, FK3 0EE\, United Kingdom
ORGANIZER;CN="CVS%20Falkirk%20%26%20District":MAILTO:info@cvsfalkirk.org.uk
END:VEVENT
END:VCALENDAR