BEGIN:VCALENDAR
VERSION:2.0
PRODID:-//CVS Falkirk - ECPv5.16.3.1//NONSGML v1.0//EN
CALSCALE:GREGORIAN
METHOD:PUBLISH
X-WR-CALNAME:CVS Falkirk
X-ORIGINAL-URL:https://www.cvsfalkirk.org.uk
X-WR-CALDESC:Events for CVS Falkirk
BEGIN:VTIMEZONE
TZID:Europe/London
BEGIN:DAYLIGHT
TZOFFSETFROM:+0000
TZOFFSETTO:+0100
TZNAME:BST
DTSTART:20260329T010000
END:DAYLIGHT
BEGIN:STANDARD
TZOFFSETFROM:+0100
TZOFFSETTO:+0000
TZNAME:GMT
DTSTART:20261025T010000
END:STANDARD
END:VTIMEZONE
BEGIN:VEVENT
DTSTART;TZID=Europe/London:20260311T100000
DTEND;TZID=Europe/London:20260311T120000
DTSTAMP:20260419T145310
CREATED:20260331T154734Z
LAST-MODIFIED:20260331T154734Z
UID:38849-1773223200-1773230400@www.cvsfalkirk.org.uk
SUMMARY:Safer and Empowered Communities Forum: March 2026 Meeting
DESCRIPTION:CVS Falkirk & District invites local third sector members to join the first Safer and Empowered Communities Forum of 2026\, taking place online via Microsoft Teams on Wednesday 11 March 2026\, 10am – 12pm. \nWe will be joined by Richard McFarlane\, Fairer Falkirk Co-ordinator at Falkirk Council\, with an update on poverty and the related priorities within Fairer Falkirk. Harrison Crawford from Falkirk Foodbank will then speak about the foodbank’s new strategy\, and their referral process. \nTo register for a place at this forum meeting\, please contact Laura Jamieson by email: laura@cvsfalkirk.org.uk \nAlternatively\, for further information on the forum\, please visit the dedicated page (linked for your convenience).
URL:https://www.cvsfalkirk.org.uk/event/safer-and-empowered-communities-forum-march-2026-meeting/
LOCATION:Online (Teams)
ORGANIZER;CN="CVS%20Falkirk%20%26%20District":MAILTO:info@cvsfalkirk.org.uk
END:VEVENT
END:VCALENDAR