BEGIN:VCALENDAR
VERSION:2.0
PRODID:-//CVS Falkirk - ECPv5.16.3.1//NONSGML v1.0//EN
CALSCALE:GREGORIAN
METHOD:PUBLISH
X-WR-CALNAME:CVS Falkirk
X-ORIGINAL-URL:https://www.cvsfalkirk.org.uk
X-WR-CALDESC:Events for CVS Falkirk
BEGIN:VTIMEZONE
TZID:Europe/London
BEGIN:DAYLIGHT
TZOFFSETFROM:+0000
TZOFFSETTO:+0100
TZNAME:BST
DTSTART:20260329T010000
END:DAYLIGHT
BEGIN:STANDARD
TZOFFSETFROM:+0100
TZOFFSETTO:+0000
TZNAME:GMT
DTSTART:20261025T010000
END:STANDARD
END:VTIMEZONE
BEGIN:VEVENT
DTSTART;TZID=Europe/London:20260310T130000
DTEND;TZID=Europe/London:20260310T150000
DTSTAMP:20260419T145756
CREATED:20260305T200633Z
LAST-MODIFIED:20260305T200633Z
UID:38595-1773147600-1773154800@www.cvsfalkirk.org.uk
SUMMARY:Women’s Financial Wellbeing in Scotland Event
DESCRIPTION:To mark International Women’s Day 2026 (taking place each year on 8 March)\, Money Advice Scotland are hosting a free\, online event focused on women’s financial wellbeing in Scotland. This event is ideal for anyone working in financial wellbeing or advice\, women’s services\, community support\, policy\, research or advocacy\, or anyone with an interest in gender and money equality. \nTaking place on Tuesday 10 March from 1–3pm\, this session will bring together expert voices from across the third sector to explore the financial challenges women face and what the evidence tells us about how this impacts women’s financial wellbeing. Speakers will include: \n\nAberlour – discussing their research conducted on the gendered impact of public debt\nClose the Gap – discussing the gender pay gap in Scotland\nScottish Women’s Aid – discussing the impact of economic and financial abuse\nFinancially Included – discussing the financial impact of other forms of gender-based violence\n\nEach speaker will deliver a short presentation on women’s financial wellbeing in Scotland and the research or insight from their organisation’s work. This will be followed by panel Q&A session\, for which attendees are invited to submit questions in advance. \nTo register your place\, please visit their Eventbrite page (linked for your convenience). \nFor further information about the organisation\, please visit the Money Advice Scotland website (linked for your convenience).
URL:https://www.cvsfalkirk.org.uk/event/womens-financial-wellbeing-in-scotland-event/
LOCATION:Online
END:VEVENT
END:VCALENDAR