BEGIN:VCALENDAR
VERSION:2.0
PRODID:-//CVS Falkirk - ECPv5.16.3.1//NONSGML v1.0//EN
CALSCALE:GREGORIAN
METHOD:PUBLISH
X-WR-CALNAME:CVS Falkirk
X-ORIGINAL-URL:https://www.cvsfalkirk.org.uk
X-WR-CALDESC:Events for CVS Falkirk
BEGIN:VTIMEZONE
TZID:Europe/London
BEGIN:DAYLIGHT
TZOFFSETFROM:+0000
TZOFFSETTO:+0100
TZNAME:BST
DTSTART:20250330T010000
END:DAYLIGHT
BEGIN:STANDARD
TZOFFSETFROM:+0100
TZOFFSETTO:+0000
TZNAME:GMT
DTSTART:20251026T010000
END:STANDARD
END:VTIMEZONE
BEGIN:VEVENT
DTSTART;TZID=Europe/London:20251209T103000
DTEND;TZID=Europe/London:20251209T120000
DTSTAMP:20260423T003517
CREATED:20251124T145519Z
LAST-MODIFIED:20251124T145519Z
UID:37465-1765276200-1765281600@www.cvsfalkirk.org.uk
SUMMARY:Know Your Numbers: Financial Literacy Workshop
DESCRIPTION:Just Enterprise is a Scottish Government-funded programme for the Third Sector in Scotland\, providing support\, training and information to start\, develop\, grow and lead a social enterprise. \nOn Tuesday 9 December 2025\, 10.30am-12pm\, they are hosting a free online workshop designed to help participants understand and interpret annual accounts. The workshop will use a real set of accounts to explain key financial terms and concepts. Key learnings to be covered include: \n\nHow to read annual accounts\nUnderstanding the balance sheet vs. income\nThe role of cash and assets\nEssential financial insights for Boards\n\nOpen to all\, the session is ideal for individuals with little or no experience in accountancy or budgeting\, particularly those involved in reviewing organisational financial documents. \nThis fully funded session is part of Just Enterprise’s support offerings and aims to build confidence in financial literacy and empower participants to assess the financial health of their organisation. \nFor further information\, please visit the Just Enterprise website (linked for your convenience).
URL:https://www.cvsfalkirk.org.uk/event/know-your-numbers-financial-literacy-workshop/
LOCATION:Online (Zoom)
ORGANIZER;CN="Just%20Enterprise":MAILTO:support@justenterprise.org
END:VEVENT
END:VCALENDAR