BEGIN:VCALENDAR
VERSION:2.0
PRODID:-//CVS Falkirk - ECPv5.16.3.1//NONSGML v1.0//EN
CALSCALE:GREGORIAN
METHOD:PUBLISH
X-WR-CALNAME:CVS Falkirk
X-ORIGINAL-URL:https://www.cvsfalkirk.org.uk
X-WR-CALDESC:Events for CVS Falkirk
BEGIN:VTIMEZONE
TZID:Europe/London
BEGIN:DAYLIGHT
TZOFFSETFROM:+0000
TZOFFSETTO:+0100
TZNAME:BST
DTSTART:20250330T010000
END:DAYLIGHT
BEGIN:STANDARD
TZOFFSETFROM:+0100
TZOFFSETTO:+0000
TZNAME:GMT
DTSTART:20251026T010000
END:STANDARD
END:VTIMEZONE
BEGIN:VEVENT
DTSTART;TZID=Europe/London:20250618T110000
DTEND;TZID=Europe/London:20250618T123000
DTSTAMP:20260421T140154
CREATED:20250616T110733Z
LAST-MODIFIED:20250616T110733Z
UID:35661-1750244400-1750249800@www.cvsfalkirk.org.uk
SUMMARY:YouthVIP Research Report Launch Event
DESCRIPTION:YouthVIP will launch their research report into young people’s views of volunteering with an online event on Wednesday 18 June 2025\, 11am – 12:30pm\, via Microsoft Teams. \nYouthVIP is a partnership project involving Young Scot\, Volunteering Matters\, YouthLink Scotland and a panel of young volunteers\, the YouthVIP Panel. Together\, they conducted a survey and focus groups with young people across Scotland\, to try to understand what their views and experiences are of volunteering. \nThe launch event has been shaped by the young volunteers of the YouthVIP Panel\, and will cover the report findings\, including the benefits and attraction of volunteering young people have experienced\, along with barriers to getting and staying involved. The findings provide insight and highlight what young people feel organisations can do to make volunteering more attractive\, inclusive and meaningful for young people in 2025. \nTo book your place\, please sign up via the Eventbrite page (linked for your convenience). \nAlternatively\, for further information\, contact the YouthVIP team by email: swinton@youthlink.scot
URL:https://www.cvsfalkirk.org.uk/event/youthvip-research-report-launch-event/
LOCATION:Online (Teams)
END:VEVENT
END:VCALENDAR