BEGIN:VCALENDAR
VERSION:2.0
PRODID:-//CVS Falkirk - ECPv5.16.3.1//NONSGML v1.0//EN
CALSCALE:GREGORIAN
METHOD:PUBLISH
X-WR-CALNAME:CVS Falkirk
X-ORIGINAL-URL:https://www.cvsfalkirk.org.uk
X-WR-CALDESC:Events for CVS Falkirk
BEGIN:VTIMEZONE
TZID:Europe/London
BEGIN:DAYLIGHT
TZOFFSETFROM:+0000
TZOFFSETTO:+0100
TZNAME:BST
DTSTART:20250330T010000
END:DAYLIGHT
BEGIN:STANDARD
TZOFFSETFROM:+0100
TZOFFSETTO:+0000
TZNAME:GMT
DTSTART:20251026T010000
END:STANDARD
END:VTIMEZONE
BEGIN:VEVENT
DTSTART;TZID=Europe/London:20251105T180000
DTEND;TZID=Europe/London:20251105T190000
DTSTAMP:20260419T174857
CREATED:20251124T160144Z
LAST-MODIFIED:20251124T160144Z
UID:37541-1762365600-1762369200@www.cvsfalkirk.org.uk
SUMMARY:Young Trustees Training Online Session
DESCRIPTION:“How do we remove the barriers that stop young people from becoming trustees?” \n\n\n\nEastside People is holding an online session as part of the Festival of Trusteeship during Trustees’ Week 2025\, taking place on Wednesday 5 November 2025\, 6pm – 7pm. \nSupported by the Institute of Leadership\, “Young Trustees Wanted: Unlocking the Next Generation” will look at tackling the barriers young people face in joining boards\, and explore what’s working and what’s not\, when it comes to recruiting and retaining younger trustees. \nThe session is aimed at aspiring and serving young trustees\, and those looking to bring fresh perspectives onto their boards. Attendees will have the opportunity to hear from young trustees about their experiences of volunteering with the third sector\, and from organisations which have successfully brought fresh voices into the boardroom. \nTo book your place\, or for further information\, please visit the Eventbrite page.
URL:https://www.cvsfalkirk.org.uk/event/young-trustees-training-online-session/
LOCATION:Online
END:VEVENT
END:VCALENDAR