BEGIN:VCALENDAR
VERSION:2.0
PRODID:-//CVS Falkirk - ECPv5.16.3.1//NONSGML v1.0//EN
CALSCALE:GREGORIAN
METHOD:PUBLISH
X-WR-CALNAME:CVS Falkirk
X-ORIGINAL-URL:https://www.cvsfalkirk.org.uk
X-WR-CALDESC:Events for CVS Falkirk
BEGIN:VTIMEZONE
TZID:Europe/London
BEGIN:DAYLIGHT
TZOFFSETFROM:+0000
TZOFFSETTO:+0100
TZNAME:BST
DTSTART:20200329T010000
END:DAYLIGHT
BEGIN:STANDARD
TZOFFSETFROM:+0100
TZOFFSETTO:+0000
TZNAME:GMT
DTSTART:20201025T010000
END:STANDARD
END:VTIMEZONE
BEGIN:VEVENT
DTSTART;TZID=Europe/London:20201106T120000
DTEND;TZID=Europe/London:20201106T140000
DTSTAMP:20260419T135347
CREATED:20201030T145733Z
LAST-MODIFIED:20201030T145733Z
UID:18684-1604664000-1604671200@www.cvsfalkirk.org.uk
SUMMARY:Walk and Talk Group for Home Workers: First Meeting
DESCRIPTION:Outside the Box is starting a new Walk and Talk Group for people working from home. \nThe group will meet for the first time at 12pm on Friday 6th November\, in front of Arnotdale House\, Dollar Park\, Camelon Road\, Falkirk\, FK1 5SQ. From there\, they will walk around the park and then visit the café for a hot drink. Social distancing will be in place. \nThe group aims to encourage people to get away from their desk and keep active\, getting people active and reducing the isolation a lot of people have experienced while working from home. \nFor further information\, please contact Dani Lisney by phone: 07541985290\, or Ania Sandland by phone: 07514905945.
URL:https://www.cvsfalkirk.org.uk/event/walk-and-talk-group-for-home-workers-first-meeting/
LOCATION:Dollar Park\, Falkirk\, FK1 5SQ\, United Kingdom
END:VEVENT
END:VCALENDAR