BEGIN:VCALENDAR
VERSION:2.0
PRODID:-//CVS Falkirk - ECPv5.16.3.1//NONSGML v1.0//EN
CALSCALE:GREGORIAN
METHOD:PUBLISH
X-WR-CALNAME:CVS Falkirk
X-ORIGINAL-URL:https://www.cvsfalkirk.org.uk
X-WR-CALDESC:Events for CVS Falkirk
BEGIN:VTIMEZONE
TZID:Europe/London
BEGIN:DAYLIGHT
TZOFFSETFROM:+0000
TZOFFSETTO:+0100
TZNAME:BST
DTSTART:20190331T010000
END:DAYLIGHT
BEGIN:STANDARD
TZOFFSETFROM:+0100
TZOFFSETTO:+0000
TZNAME:GMT
DTSTART:20191027T010000
END:STANDARD
END:VTIMEZONE
BEGIN:VEVENT
DTSTART;TZID=Europe/London:20191106T130000
DTEND;TZID=Europe/London:20191106T160000
DTSTAMP:20260422T115650
CREATED:20191029T151410Z
LAST-MODIFIED:20191029T151410Z
UID:15395-1573045200-1573056000@www.cvsfalkirk.org.uk
SUMMARY:“Tax and TARs” Trustees’ Week Event
DESCRIPTION:As part of Trustees’ Week\, CVS Falkirk\, Stirlingshire Voluntary Enterprise (SVE) and Clackmannanshire TSI (CTSI) are working with Her Majesty’s Revenue and Customs (HMRC) and the Office of the Scottish Charity Regulator (OSCR) to hold “Tax and TARs” on Wednesday 6th November. \nThis half-day workshop takes place 1pm – 4pm at the brand new Barracks Conference Centre\, Forthside Way\, Stirling\, FK8 1QZ. \nJulian Maybury from HMRC will speak about Corporation Tax and how charities should file their tax returns\, while Laura Anderson from OSCR will talk about the importance of the Trustees’ Annual Report (TAR)\, including as a marketing tool\, and will share her experiences\, along with some of the more innovative approaches to TARs submitted to OSCR over the years. \nAttendees will have an opportunity to ask questions of both speakers\, along with the chance to network with colleagues from the local sector. \nTo book your place\, or for further information\, please visit the Eventbrite page.
URL:https://www.cvsfalkirk.org.uk/event/tax-and-tars-trustees-week-event/
LOCATION:Barracks Conference Centre\, Forthside Way\, Stirling\, FK8 1QZ\, United Kingdom
ORGANIZER;CN="CVS%20Falkirk%20%26%20District":MAILTO:info@cvsfalkirk.org.uk
END:VEVENT
END:VCALENDAR