BEGIN:VCALENDAR
VERSION:2.0
PRODID:-//CVS Falkirk - ECPv5.16.3.1//NONSGML v1.0//EN
CALSCALE:GREGORIAN
METHOD:PUBLISH
X-WR-CALNAME:CVS Falkirk
X-ORIGINAL-URL:https://www.cvsfalkirk.org.uk
X-WR-CALDESC:Events for CVS Falkirk
BEGIN:VTIMEZONE
TZID:Europe/London
BEGIN:DAYLIGHT
TZOFFSETFROM:+0000
TZOFFSETTO:+0100
TZNAME:BST
DTSTART:20230326T010000
END:DAYLIGHT
BEGIN:STANDARD
TZOFFSETFROM:+0100
TZOFFSETTO:+0000
TZNAME:GMT
DTSTART:20231029T010000
END:STANDARD
END:VTIMEZONE
BEGIN:VEVENT
DTSTART;TZID=Europe/London:20231024T140000
DTEND;TZID=Europe/London:20231024T150000
DTSTAMP:20260421T101458
CREATED:20231023T100755Z
LAST-MODIFIED:20231023T100755Z
UID:29925-1698156000-1698159600@www.cvsfalkirk.org.uk
SUMMARY:Steps to Net Zero: Webinar 1
DESCRIPTION:Just Enterprise and Growing Climate Confidence are delivering a series of 5 webinars to help social enterprises and third sector groups and organisations on their journey to Net Zero. \nThe first webinar\, “Engaging with Net Zero as Scottish Third Sector Organisation” takes place next Tuesday 24th October\, 2pm – 3pm\, and will cover practical steps groups can take and learn from the experiences of other groups and organisations\, plus speakers. There will also be an opportunity for a Q&A. \nTo book your place\, or for further information\, please visit the Eventbrite page.
URL:https://www.cvsfalkirk.org.uk/event/steps-to-net-zero-webinar-1/
ORGANIZER;CN="Just%20Enterprise":MAILTO:support@justenterprise.org
END:VEVENT
END:VCALENDAR