BEGIN:VCALENDAR
VERSION:2.0
PRODID:-//CVS Falkirk - ECPv5.16.3.1//NONSGML v1.0//EN
CALSCALE:GREGORIAN
METHOD:PUBLISH
X-WR-CALNAME:CVS Falkirk
X-ORIGINAL-URL:https://www.cvsfalkirk.org.uk
X-WR-CALDESC:Events for CVS Falkirk
BEGIN:VTIMEZONE
TZID:Europe/London
BEGIN:DAYLIGHT
TZOFFSETFROM:+0000
TZOFFSETTO:+0100
TZNAME:BST
DTSTART:20220327T010000
END:DAYLIGHT
BEGIN:STANDARD
TZOFFSETFROM:+0100
TZOFFSETTO:+0000
TZNAME:GMT
DTSTART:20221030T010000
END:STANDARD
END:VTIMEZONE
BEGIN:VEVENT
DTSTART;TZID=Europe/London:20221203T150000
DTEND;TZID=Europe/London:20221203T170000
DTSTAMP:20260419T155659
CREATED:20221206T115747Z
LAST-MODIFIED:20221206T115747Z
UID:25893-1670079600-1670086800@www.cvsfalkirk.org.uk
SUMMARY:Stenhousemuir Christmas Light Switch-on Event
DESCRIPTION:Please find below a list of upcoming Christmas Light Switch-on events taking place across the Falkirk District: \n\nDenny Town Centre on Saturday 3rd December\, 2pm – 4pm: with festive entertainment from local performers and community groups\, plus the chance to have your photo taken in the Giant Snow Globe. There will also be facepainting in Santa’s Mobile Grotto from ROOTS HHFS Food Bank\, and the chance to visit Santa and his Sleigh with Falkirk Round Table.\nStenhousemuir Town Centre\, also on Saturday 3rd December\, 3pm – 5pm: featuring performances from Larbert High School Pipe Band\, Larbert Musical Theatre\, Dionne Hickey and Craig Eddie\, plus a visit from Santa and his Sleigh thanks to Larbert Round Table No. 979\, and the Giant Snow Globe.\n\nFor further information on either event\, please click on the above links.
URL:https://www.cvsfalkirk.org.uk/event/stenhousemuir-christmas-light-switch-on-event/
ORGANIZER;CN="Falkirk%20Delivers":MAILTO:info@falkirkdelivers.com
END:VEVENT
END:VCALENDAR