BEGIN:VCALENDAR
VERSION:2.0
PRODID:-//CVS Falkirk - ECPv5.16.3.1//NONSGML v1.0//EN
CALSCALE:GREGORIAN
METHOD:PUBLISH
X-WR-CALNAME:CVS Falkirk
X-ORIGINAL-URL:https://www.cvsfalkirk.org.uk
X-WR-CALDESC:Events for CVS Falkirk
BEGIN:VTIMEZONE
TZID:Europe/London
BEGIN:DAYLIGHT
TZOFFSETFROM:+0000
TZOFFSETTO:+0100
TZNAME:BST
DTSTART:20230326T010000
END:DAYLIGHT
BEGIN:STANDARD
TZOFFSETFROM:+0100
TZOFFSETTO:+0000
TZNAME:GMT
DTSTART:20231029T010000
END:STANDARD
END:VTIMEZONE
BEGIN:VEVENT
DTSTART;TZID=Europe/London:20230214T130000
DTEND;TZID=Europe/London:20230214T143000
DTSTAMP:20260421T153329
CREATED:20230112T155322Z
LAST-MODIFIED:20230112T155322Z
UID:26088-1676379600-1676385000@www.cvsfalkirk.org.uk
SUMMARY:SRN Recovery Conversation Café: Self-Harm Support Services (Glasgow)
DESCRIPTION:Scottish Recovery Network (SRN) is holding recovery conversation cafés throughout February (both online and in-person) to explore how services and support for people affected by self-harm can be improved. \nCafés will take place: \n\nVia Zoom:\n\nTuesday 7th February\, 11am – 12:30pm (a secure Zoom link and welcome pack will be sent ahead of the event)\n\n\n\n\nIn-person events:\n\nGlasgow\, Tuesday 14th February\, 1pm – 2:30pm\nDundee\, Tuesday 21st February\, 1pm – 2:30pm\nInverness\, Tuesday 28th February \, 1pm – 2:30pm\n\n\n\nSRN’s staff team will host the cafés with the support of people with lived experience. Please note\,  numbers at the in-person events have been kept deliberately low to allow more time to explore people’s opinions and ideas. Places are given on a first come\, first serve basis\, and all sessions are the same. Attendees should only book for one session. \nSRN is looking to hear from people who are willing to share their experiences of self-harm support\, as well as people\, services and organisations who provide support\, exploring: \n\nWhat enables people to live well?\nWhat would make support and services better?\nHow can sharing your experiences with others in similar circumstances help?\n\nFeedback from these events will be shared with Scottish Government\, to help shape their new Self-Harm Strategy and develop better services\, while also supporting the development of the new Penumbra Self-Hatm Network Scotland. \nTo book your place at any conversation café\, please click on the relevant date above. \nAlternatively\, for further information\, visit the SRN website.
URL:https://www.cvsfalkirk.org.uk/event/srn-recovery-conversation-cafe-self-harm-support-services-glasgow/
ORGANIZER;CN="Scottish%20Recovery%20Network":MAILTO:christine.muir@scottishrecovery.net
END:VEVENT
END:VCALENDAR