BEGIN:VCALENDAR
VERSION:2.0
PRODID:-//CVS Falkirk - ECPv5.16.3.1//NONSGML v1.0//EN
CALSCALE:GREGORIAN
METHOD:PUBLISH
X-WR-CALNAME:CVS Falkirk
X-ORIGINAL-URL:https://www.cvsfalkirk.org.uk
X-WR-CALDESC:Events for CVS Falkirk
BEGIN:VTIMEZONE
TZID:Europe/London
BEGIN:DAYLIGHT
TZOFFSETFROM:+0000
TZOFFSETTO:+0100
TZNAME:BST
DTSTART:20210328T010000
END:DAYLIGHT
BEGIN:STANDARD
TZOFFSETFROM:+0100
TZOFFSETTO:+0000
TZNAME:GMT
DTSTART:20211031T010000
END:STANDARD
END:VTIMEZONE
BEGIN:VEVENT
DTSTART;VALUE=DATE:20210915
DTEND;VALUE=DATE:20210916
DTSTAMP:20260422T032209
CREATED:20210907T120821Z
LAST-MODIFIED:20210907T120821Z
UID:21291-1631664000-1631750399@www.cvsfalkirk.org.uk
SUMMARY:Link Academy: First In-Person Session
DESCRIPTION:Link Living has announced that its Link Academy will return to in-person in September. \nThey will deliver a series of workshops aimed at supporting young people aged 15 – 22 years old to better understand their own wellbeing as well as preparing to live independently. \nThe workshops are designed to be fun and interactive\, beginning on Wednesday 15th September. This is a rolling programme and will continue through to December. \nParticipants can attend as many or few workshops as they wish. Travel vouchers will be provided\, along with lunch for those attending both morning and afternoon sessions. \nFor further information\, including how to register for a place\, please contact Catherine Sim by phone: 01324 466860\, or email: catherine.sim@linkliving.org.uk \nAlternatively\, for further information\, view or download the programme timetable as a pdf.
URL:https://www.cvsfalkirk.org.uk/event/link-academy-first-in-person-session/
LOCATION:Link Academy\, McKinven House\, George Street\, Falkirk\, FK2 7EY\, United Kingdom
END:VEVENT
END:VCALENDAR