BEGIN:VCALENDAR
VERSION:2.0
PRODID:-//CVS Falkirk - ECPv5.16.3.1//NONSGML v1.0//EN
CALSCALE:GREGORIAN
METHOD:PUBLISH
X-WR-CALNAME:CVS Falkirk
X-ORIGINAL-URL:https://www.cvsfalkirk.org.uk
X-WR-CALDESC:Events for CVS Falkirk
BEGIN:VTIMEZONE
TZID:Europe/London
BEGIN:DAYLIGHT
TZOFFSETFROM:+0000
TZOFFSETTO:+0100
TZNAME:BST
DTSTART:20220327T010000
END:DAYLIGHT
BEGIN:STANDARD
TZOFFSETFROM:+0100
TZOFFSETTO:+0000
TZNAME:GMT
DTSTART:20221030T010000
END:STANDARD
END:VTIMEZONE
BEGIN:VEVENT
DTSTART;TZID=Europe/London:20221203T103000
DTEND;TZID=Europe/London:20221203T123000
DTSTAMP:20260419T195956
CREATED:20221130T173954Z
LAST-MODIFIED:20221130T173954Z
UID:25803-1670063400-1670070600@www.cvsfalkirk.org.uk
SUMMARY:Islamophobia Awareness Month Falkirk Event
DESCRIPTION:The Central Scotland Regional Equality Council (CSREC)\, in partnership with the Rainbow Muslim Women Group\, are planning a FREE interactive event to promote a culture of understanding and respect to mark Islamophobia Awareness Month. \nThe event takes place on Saturday 3rd December\, 10:30am – 12:30pm\, at CSREC’s unit in the Howgate Shopping Centre\, High Street\, Falkirk\, FK1 1HG. \nEveryone is welcome\, including children\, and there will be refreshments and family-friendly activities\, including “What’s On Your Head?” \nCSREC is also looking to borrow religious and cultural headgear for the event. \nFor further information\, please contact CSREC by phone: 01324 610950\, or email: admin@csrec.org.uk
URL:https://www.cvsfalkirk.org.uk/event/islamophobia-awareness-month-falkirk-event/
LOCATION:Howgate Shopping Centre\, High St\, Falkirk\, FK1 1HG\, United Kingdom
ORGANIZER;CN="Central%20Scotland%20Regional%20Equality%20Council%20%28CSREC%29":MAILTO:info@csrec.org.uk
END:VEVENT
END:VCALENDAR