BEGIN:VCALENDAR
VERSION:2.0
PRODID:-//CVS Falkirk - ECPv5.16.3.1//NONSGML v1.0//EN
CALSCALE:GREGORIAN
METHOD:PUBLISH
X-WR-CALNAME:CVS Falkirk
X-ORIGINAL-URL:https://www.cvsfalkirk.org.uk
X-WR-CALDESC:Events for CVS Falkirk
BEGIN:VTIMEZONE
TZID:Europe/London
BEGIN:DAYLIGHT
TZOFFSETFROM:+0000
TZOFFSETTO:+0100
TZNAME:BST
DTSTART:20240331T010000
END:DAYLIGHT
BEGIN:STANDARD
TZOFFSETFROM:+0100
TZOFFSETTO:+0000
TZNAME:GMT
DTSTART:20241027T010000
END:STANDARD
END:VTIMEZONE
BEGIN:VEVENT
DTSTART;TZID=Europe/London:20240124T093000
DTEND;TZID=Europe/London:20240124T163000
DTSTAMP:20260422T095529
CREATED:20240108T131055Z
LAST-MODIFIED:20240108T131055Z
UID:30687-1706088600-1706113800@www.cvsfalkirk.org.uk
SUMMARY:GIRFEC Refresh Learning Session
DESCRIPTION:The final date of Falkirk Community Planning Partnership’s (CPP) current run of GIRFEC Refresh Learning Sessions takes place on Wednesday 24th January\, 9:30am – 12pm or 2pm – 4:30pm. \nThe session is open to those working with children and their families – including staff and volunteer from third sector groups and organisations – across the Falkirk District. It is designed to provide an overview of the refreshed Getting It Right for Every Child (GIRFEC) values and principles\, and the developments taking place in Falkirk District. \nThis session takes place in-person\, at the Falkirk Council office in The Foundry\, Central Boulevard\, Larbert\, FK5 4RU\, and aims to provide clarity regarding Named Persons and Lead Professionals. \nFor further information\, including how to book your place\, please view or download the session flyer as a pdf.
URL:https://www.cvsfalkirk.org.uk/event/girfec-refresh-learning-session/
LOCATION:The Foundry\, 4 Central Boulevard\, Central Park\, Larbert\, FK5 4RU\, United Kingdom
ORGANIZER;CN="Falkirk%20Community%20Planning%20Partnership%20%28CPP%29":MAILTO:communityplanning@falkirk.gov.uk
END:VEVENT
END:VCALENDAR