BEGIN:VCALENDAR
VERSION:2.0
PRODID:-//CVS Falkirk - ECPv5.16.3.1//NONSGML v1.0//EN
CALSCALE:GREGORIAN
METHOD:PUBLISH
X-WR-CALNAME:CVS Falkirk
X-ORIGINAL-URL:https://www.cvsfalkirk.org.uk
X-WR-CALDESC:Events for CVS Falkirk
BEGIN:VTIMEZONE
TZID:Europe/London
BEGIN:DAYLIGHT
TZOFFSETFROM:+0000
TZOFFSETTO:+0100
TZNAME:BST
DTSTART:20260329T010000
END:DAYLIGHT
BEGIN:STANDARD
TZOFFSETFROM:+0100
TZOFFSETTO:+0000
TZNAME:GMT
DTSTART:20261025T010000
END:STANDARD
END:VTIMEZONE
BEGIN:VEVENT
DTSTART;TZID=Europe/London:20260127T100000
DTEND;TZID=Europe/London:20260127T120000
DTSTAMP:20260421T102233
CREATED:20260126T110623Z
LAST-MODIFIED:20260126T110623Z
UID:38117-1769508000-1769515200@www.cvsfalkirk.org.uk
SUMMARY:Generations Working Together Winter Network Meeting
DESCRIPTION:Generations Working Together (GWT) will hold its online Winter Network Meeting on Tuesday 27 January 2026\, 10am – 12pm. \nThe event aims to provide an opportunity to connect with members across GWT’s networks\, share ideas\, and hear about what is being done in other areas. As well as hearing from the GWT team on Global Intergenerational Week 2026 (taking place in April) and the Global Intergenerational Congress 2026\, attendees will welcome guest speaker Lynn Gow from Digital NL\, the North Lanarkshire Intergenerational Digital Project. \nThe meeting is free to attend\, but attendees must be members of GWT. \nTo book your place\, or for further information\, please visit the GWT website (linked for your convenience).
URL:https://www.cvsfalkirk.org.uk/event/generations-working-together-winter-network-meeting/
LOCATION:Online
END:VEVENT
END:VCALENDAR