BEGIN:VCALENDAR
VERSION:2.0
PRODID:-//CVS Falkirk - ECPv5.16.3.1//NONSGML v1.0//EN
CALSCALE:GREGORIAN
METHOD:PUBLISH
X-WR-CALNAME:CVS Falkirk
X-ORIGINAL-URL:https://www.cvsfalkirk.org.uk
X-WR-CALDESC:Events for CVS Falkirk
BEGIN:VTIMEZONE
TZID:Europe/London
BEGIN:DAYLIGHT
TZOFFSETFROM:+0000
TZOFFSETTO:+0100
TZNAME:BST
DTSTART:20220327T010000
END:DAYLIGHT
BEGIN:STANDARD
TZOFFSETFROM:+0100
TZOFFSETTO:+0000
TZNAME:GMT
DTSTART:20221030T010000
END:STANDARD
END:VTIMEZONE
BEGIN:VEVENT
DTSTART;TZID=Europe/London:20220929T100000
DTEND;TZID=Europe/London:20220929T120000
DTSTAMP:20260420T134915
CREATED:20220905T113815Z
LAST-MODIFIED:20220909T120214Z
UID:25055-1664445600-1664452800@www.cvsfalkirk.org.uk
SUMMARY:FVSEN September Meeting
DESCRIPTION:The next online meeting dates of the Forth Valley Social Enterprise Network (FVSEN) are: \n\nThursday 29th September\, 10am – 12pm\nThursday 17th November\, 10am – 12pm\n\nFVSEN is a network of social enterprises working across the Falkirk\, Stirling\, and Clackmannanshire areas. It is free to join and acts as a local space for: \n\npeer support\, networking and information sharing\npotential collective trading\nengagement with policy makers\, funders and other strategic partners\njointly promoting social enterprises across the Forth Valley\ndeveloping the social economy in the Forth Valley\n\nFor further information\, or to attend any meeting\, please contact Jessie Henderson by email: jessie.henderson@ctsi.org.uk
URL:https://www.cvsfalkirk.org.uk/event/fvsen-september-meeting-2/
ORGANIZER;CN="Forth%20Valley%20SEN":MAILTO:fvsenetwork@gmail.com
END:VEVENT
END:VCALENDAR