BEGIN:VCALENDAR
VERSION:2.0
PRODID:-//CVS Falkirk - ECPv5.16.3.1//NONSGML v1.0//EN
CALSCALE:GREGORIAN
METHOD:PUBLISH
X-WR-CALNAME:CVS Falkirk
X-ORIGINAL-URL:https://www.cvsfalkirk.org.uk
X-WR-CALDESC:Events for CVS Falkirk
BEGIN:VTIMEZONE
TZID:Europe/London
BEGIN:DAYLIGHT
TZOFFSETFROM:+0000
TZOFFSETTO:+0100
TZNAME:BST
DTSTART:20260329T010000
END:DAYLIGHT
BEGIN:STANDARD
TZOFFSETFROM:+0100
TZOFFSETTO:+0000
TZNAME:GMT
DTSTART:20261025T010000
END:STANDARD
END:VTIMEZONE
BEGIN:VEVENT
DTSTART;TZID=Europe/London:20260226T093000
DTEND;TZID=Europe/London:20260226T120000
DTSTAMP:20260419T150609
CREATED:20260202T101803Z
LAST-MODIFIED:20260202T101803Z
UID:38294-1772098200-1772107200@www.cvsfalkirk.org.uk
SUMMARY:Free “Brainstorm Your Brand Comms” Workshop
DESCRIPTION:Adam Piggot will be running a free\, online\, half-day workshop for social impact organisations in Scotland (including the third sector) on Thursday 26 February\, 9:30am – 12pm\, via Zoom. \n“Brainstorm Your Brand Comms” will cover a range of brand communication\, such as brand and communication strategies\, community and media engagement\, fundraising\, content (including written and photo promotions)\, and assets like websites\, social media\, and publications. \nAdam is a Brand Strategy Specialist & Identity Designer\, who has previously delivered sessions for CVS Falkirk & District\, including at the Connecting Volunteering Network in February 2024. The workshop is completely free\, but spaces are limited (with only one place per organisation)\, and booking is essential. \nTo book your place\, or for further information\, please visit Adam Piggot’s website (linked for your convenience).
URL:https://www.cvsfalkirk.org.uk/event/free-brainstorm-your-brand-comms-workshop/
LOCATION:Online (Zoom)
ORGANIZER;CN="Adam%20Piggot":MAILTO:hello@adampiggot.com
END:VEVENT
END:VCALENDAR