BEGIN:VCALENDAR
VERSION:2.0
PRODID:-//CVS Falkirk - ECPv5.16.3.1//NONSGML v1.0//EN
CALSCALE:GREGORIAN
METHOD:PUBLISH
X-WR-CALNAME:CVS Falkirk
X-ORIGINAL-URL:https://www.cvsfalkirk.org.uk
X-WR-CALDESC:Events for CVS Falkirk
BEGIN:VTIMEZONE
TZID:Europe/London
BEGIN:DAYLIGHT
TZOFFSETFROM:+0000
TZOFFSETTO:+0100
TZNAME:BST
DTSTART:20260329T010000
END:DAYLIGHT
BEGIN:STANDARD
TZOFFSETFROM:+0100
TZOFFSETTO:+0000
TZNAME:GMT
DTSTART:20261025T010000
END:STANDARD
END:VTIMEZONE
BEGIN:VEVENT
DTSTART;TZID=Europe/London:20260212T093000
DTEND;TZID=Europe/London:20260212T130000
DTSTAMP:20260419T173215
CREATED:20260202T102912Z
LAST-MODIFIED:20260202T102912Z
UID:38310-1770888600-1770901200@www.cvsfalkirk.org.uk
SUMMARY:Forth Valley Social Enterprise Network: February Meeting
DESCRIPTION:The next Forth Valley Social Enterprise Network (FVSEN) meeting will take place on Thursday 12 February 2026\, 9:30am – 1pm at Hawkhill Community Centre\, 132 Hillcrest Drive\, Alloa\, FK10 1SB. \nFacilitated by our team at CVS Falkirk & District with our Forth Valley colleagues at CTSI and SVE\, the FVSEN continues to grow and develop\, and our face to face meetings are a great place to connect\, discuss and share your work. \nJoin us for updates from across the region\, including: \n\nnational updates\nthe Good Food Nation Act and Forth Valley Food Futures\nCulture\, Heritage & Tourism in Clackmannanshire and Forth Valley\nC4 and spotlights on community transport\nnew members from across the region\n\nTo book your place\, or for further information\, please visit the Eventbrite page (linked for your convenience).
URL:https://www.cvsfalkirk.org.uk/event/forth-valley-social-enterprise-network-february-meeting/
LOCATION:Hawkhill Community Centre\, 132 Hillcrest Drive\, Alloa\, FK10 1SB\, United Kingdom
ORGANIZER;CN="CVS%20Falkirk%20%26%20District":MAILTO:info@cvsfalkirk.org.uk
END:VEVENT
END:VCALENDAR