BEGIN:VCALENDAR
VERSION:2.0
PRODID:-//CVS Falkirk - ECPv5.16.3.1//NONSGML v1.0//EN
CALSCALE:GREGORIAN
METHOD:PUBLISH
X-WR-CALNAME:CVS Falkirk
X-ORIGINAL-URL:https://www.cvsfalkirk.org.uk
X-WR-CALDESC:Events for CVS Falkirk
BEGIN:VTIMEZONE
TZID:Europe/London
BEGIN:DAYLIGHT
TZOFFSETFROM:+0000
TZOFFSETTO:+0100
TZNAME:BST
DTSTART:20230326T010000
END:DAYLIGHT
BEGIN:STANDARD
TZOFFSETFROM:+0100
TZOFFSETTO:+0000
TZNAME:GMT
DTSTART:20231029T010000
END:STANDARD
END:VTIMEZONE
BEGIN:VEVENT
DTSTART;VALUE=DATE:20230217
DTEND;VALUE=DATE:20230218
DTSTAMP:20260421T191921
CREATED:20230123T121101Z
LAST-MODIFIED:20230123T121101Z
UID:26258-1676592000-1676678399@www.cvsfalkirk.org.uk
SUMMARY:FDAMH COSCA Counselling Skills Course: First Session
DESCRIPTION:Falkirk’s Mental Health Association (FDAMH) will deliver the COSCA Certificate in Counselling Skills course\, starting on Friday 17th February\, with all training sessions being held in-person at the FDAMH premises at 173 Victoria Road\, Falkirk\, FK2 7AU (in Falkirk town centre\, behind McDonalds in the Central Retail Park). Learners will participate in Friday and Saturday sessions. \nThe cost of the course is £1\,300 or £1\,400\, dependent on whether learners would prefer to be provided with digital or paper copies of the course resources; however\, course participation can be secured with a low deposit and payment plans are available. Learners who complete the course will achieve their Certificate at SCQF Level 8. \nFor further information\, including how to book your place\, or to discuss if this is the right course for you\, please contact Lisa Alexander at FDAMH by phone: 01324 671600\, or email: lisa.alexander@fdamh.org.uk
URL:https://www.cvsfalkirk.org.uk/event/fdamh-cosca-counselling-skills-course-first-session/
LOCATION:Falkirk District Association for Mental Health (FDAMH)\, 173 Victoria Road\, Falkirk\, FK2 7AU\, United Kingdom
END:VEVENT
END:VCALENDAR