BEGIN:VCALENDAR
VERSION:2.0
PRODID:-//CVS Falkirk - ECPv5.16.3.1//NONSGML v1.0//EN
CALSCALE:GREGORIAN
METHOD:PUBLISH
X-WR-CALNAME:CVS Falkirk
X-ORIGINAL-URL:https://www.cvsfalkirk.org.uk
X-WR-CALDESC:Events for CVS Falkirk
BEGIN:VTIMEZONE
TZID:Europe/London
BEGIN:DAYLIGHT
TZOFFSETFROM:+0000
TZOFFSETTO:+0100
TZNAME:BST
DTSTART:20250330T010000
END:DAYLIGHT
BEGIN:STANDARD
TZOFFSETFROM:+0100
TZOFFSETTO:+0000
TZNAME:GMT
DTSTART:20251026T010000
END:STANDARD
END:VTIMEZONE
BEGIN:VEVENT
DTSTART;TZID=Europe/London:20251207T110000
DTEND;TZID=Europe/London:20251207T160000
DTSTAMP:20260422T141012
CREATED:20251124T151935Z
LAST-MODIFIED:20251124T151935Z
UID:37493-1765105200-1765123200@www.cvsfalkirk.org.uk
SUMMARY:Falkirk Braes Grange Centre Christmas Fair
DESCRIPTION:The Falkirk Braes Grange Centre is holding its Christmas Fair on Sunday 7 December 2025\, 11am – 4pm in the centre itself\, Redding Road\, Brightons\, FK2 0AA. \n\n\n\nThere will be a range of local stalls (featuring a range of products\, including candles and wax melts\, handmade wreaths and garlands\, personalised items\, skincare products\, laser-engraved wood and slate items\, plus Christmas Eve boxes\, baubles\, and glasses)\, games\, food and refreshments\, plus a visit from Santa himself. \nStalls are still available (at £20 per stall)\, and the team is still accepting donations for the tombola and decorations. \nFor further information\, including how to donate or book a stall\, please contact the team by email: bookingsgrange@gmail.com \nAlternatively\, visit the Facebook event (linked for your convenience).
URL:https://www.cvsfalkirk.org.uk/event/falkirk-braes-grange-centre-christmas-fair/
LOCATION:The Falkirk Braes Grange Centre\, Redding Road\, Brightons\, FK2 0AA\, United Kingdom
ORGANIZER;CN="Falkirk%20Braes%20Grange%20Centre":MAILTO:FalkirkBraesGrange@gmail.com
END:VEVENT
END:VCALENDAR