BEGIN:VCALENDAR
VERSION:2.0
PRODID:-//CVS Falkirk - ECPv5.16.3.1//NONSGML v1.0//EN
CALSCALE:GREGORIAN
METHOD:PUBLISH
X-WR-CALNAME:CVS Falkirk
X-ORIGINAL-URL:https://www.cvsfalkirk.org.uk
X-WR-CALDESC:Events for CVS Falkirk
BEGIN:VTIMEZONE
TZID:Europe/London
BEGIN:DAYLIGHT
TZOFFSETFROM:+0000
TZOFFSETTO:+0100
TZNAME:BST
DTSTART:20200329T010000
END:DAYLIGHT
BEGIN:STANDARD
TZOFFSETFROM:+0100
TZOFFSETTO:+0000
TZNAME:GMT
DTSTART:20201025T010000
END:STANDARD
END:VTIMEZONE
BEGIN:VEVENT
DTSTART;VALUE=DATE:20201026
DTEND;VALUE=DATE:20201101
DTSTAMP:20260419T132339
CREATED:20201030T165635Z
LAST-MODIFIED:20201030T165635Z
UID:18706-1603670400-1604188799@www.cvsfalkirk.org.uk
SUMMARY:Dollar Park Garden Ghouls
DESCRIPTION:From Monday 26th October\, Cyrenians will be holding a week-long Halloween week\, 10am – 3:30pm each day at the Walled Garden in Dollar Park. There will be non-contact games around the garden\, secret sweets\, “Show Off Your Pumpkin” on the Cyrenians cart\, and a chance to say hello to the monsters. \nThere is also a Garden Ghouls Party on Saturday 31st October\, where children can dress up and have fun. \nThere is no need to book; the event is free\, though donations for Cyrenians are welcomed. COVID-19 safety precautions are in place (including no public toilets)\, in order to make the event as safe and fun as possible. \nFor further information (including the list of safety precautions)\, visit the Facebook page or Instagram.
URL:https://www.cvsfalkirk.org.uk/event/dollar-park-garden-ghouls/
LOCATION:Dollar Park\, Falkirk\, FK1 5SQ\, United Kingdom
ORGANIZER;CN="Cyrenians":MAILTO:admin@cyrenians.scot
END:VEVENT
END:VCALENDAR