BEGIN:VCALENDAR
VERSION:2.0
PRODID:-//CVS Falkirk - ECPv5.16.3.1//NONSGML v1.0//EN
CALSCALE:GREGORIAN
METHOD:PUBLISH
X-WR-CALNAME:CVS Falkirk
X-ORIGINAL-URL:https://www.cvsfalkirk.org.uk
X-WR-CALDESC:Events for CVS Falkirk
BEGIN:VTIMEZONE
TZID:Europe/London
BEGIN:DAYLIGHT
TZOFFSETFROM:+0000
TZOFFSETTO:+0100
TZNAME:BST
DTSTART:20230326T010000
END:DAYLIGHT
BEGIN:STANDARD
TZOFFSETFROM:+0100
TZOFFSETTO:+0000
TZNAME:GMT
DTSTART:20231029T010000
END:STANDARD
END:VTIMEZONE
BEGIN:VEVENT
DTSTART;VALUE=DATE:20230828
DTEND;VALUE=DATE:20230829
DTSTAMP:20260420T172026
CREATED:20230828T113533Z
LAST-MODIFIED:20230828T113533Z
UID:29525-1693180800-1693267199@www.cvsfalkirk.org.uk
SUMMARY:Dates-n-Mates STV Advert Live
DESCRIPTION:Dates-n-Mates has announced that their TV advert with STV will be going live on Monday 28th August for 10 days across various time slots on live TV and the online STV player. \nThey have been working with the STV creative team on this advert for a number of months; the advert features photos of their members events from each Dates-n-Mates branches\, with voiceover from 2 of the team. \nThey have shared the live TV schedule for the first few days of the advert\, available to view or download as a pdf (linked for your convenience). \nThey would also love to see any reaction videos or photos as people watch the advert\, or hear their thoughts on the advert; these can be shared on social media by tagging Dates-n-Mates Scotland and local branches. \nFor further information\, please visit the Dates-n-Mates Scotland Facebook page.
URL:https://www.cvsfalkirk.org.uk/event/dates-n-mates-stv-advert-live/
ORGANIZER;CN="dates-n-mates%20Scotland":MAILTO:dnm@c-change.org.uk
END:VEVENT
END:VCALENDAR