BEGIN:VCALENDAR
VERSION:2.0
PRODID:-//CVS Falkirk - ECPv5.16.3.1//NONSGML v1.0//EN
CALSCALE:GREGORIAN
METHOD:PUBLISH
X-WR-CALNAME:CVS Falkirk
X-ORIGINAL-URL:https://www.cvsfalkirk.org.uk
X-WR-CALDESC:Events for CVS Falkirk
BEGIN:VTIMEZONE
TZID:Europe/London
BEGIN:DAYLIGHT
TZOFFSETFROM:+0000
TZOFFSETTO:+0100
TZNAME:BST
DTSTART:20210328T010000
END:DAYLIGHT
BEGIN:STANDARD
TZOFFSETFROM:+0100
TZOFFSETTO:+0000
TZNAME:GMT
DTSTART:20211031T010000
END:STANDARD
END:VTIMEZONE
BEGIN:VEVENT
DTSTART;TZID=Europe/London:20210611T200000
DTEND;TZID=Europe/London:20210611T200000
DTSTAMP:20260419T134041
CREATED:20210611T162007Z
LAST-MODIFIED:20210611T162007Z
UID:20521-1623441600-1623441600@www.cvsfalkirk.org.uk
SUMMARY:COVID-19 Vaccine Self-Registration for 18 – 29 Year Olds Deadline
DESCRIPTION:People aged 18 – 29 years old have until 8pm TONIGHT\, FRIDAY 11th JUNE to register for their COVID-19 vaccination. \nRegistration takes 5 – 10 minutes. Vaccination appointments will start from mid-June. \nIf anyone eligible for the self-registration system (or who should have already received their vaccine) doesn’t have access to the internet or a smartphone\, they can still register for SMS and email updates by calling the national COVID-19 Vaccination Helpline: 0800 030 8013. \n(Please note that those who are over 29 years old\, or whose 18th birthday is Tuesday 18th May – Saturday 31st July 2021\, cannot use the self-registration system; they will be contacted by letter to notify them of their appointment.) \nTo register\, please visit the NHS Scotland self-registration page. \nAlternatively\, for further information\, visit the NHS Inform Scotland website.
URL:https://www.cvsfalkirk.org.uk/event/covid-19-vaccine-self-registration-for-18-29-year-olds-deadline/
END:VEVENT
END:VCALENDAR