BEGIN:VCALENDAR
VERSION:2.0
PRODID:-//CVS Falkirk - ECPv5.16.3.1//NONSGML v1.0//EN
CALSCALE:GREGORIAN
METHOD:PUBLISH
X-WR-CALNAME:CVS Falkirk
X-ORIGINAL-URL:https://www.cvsfalkirk.org.uk
X-WR-CALDESC:Events for CVS Falkirk
BEGIN:VTIMEZONE
TZID:Europe/London
BEGIN:DAYLIGHT
TZOFFSETFROM:+0000
TZOFFSETTO:+0100
TZNAME:BST
DTSTART:20220327T010000
END:DAYLIGHT
BEGIN:STANDARD
TZOFFSETFROM:+0100
TZOFFSETTO:+0000
TZNAME:GMT
DTSTART:20221030T010000
END:STANDARD
END:VTIMEZONE
BEGIN:VEVENT
DTSTART;VALUE=DATE:20220131
DTEND;VALUE=DATE:20220201
DTSTAMP:20260422T135352
CREATED:20220128T130603Z
LAST-MODIFIED:20220128T130603Z
UID:23084-1643587200-1643673599@www.cvsfalkirk.org.uk
SUMMARY:COVID-19 Update: Hybrid Working in Scotland
DESCRIPTION:Scottish Government has announced that\, as of Monday 31st January\, businesses can prepare to resume hybrid working\, enabling more people to have a flexible return to working between home and the office. \nDue to the continued decline in COVID-19 cases\, and the progressing easing of protective measures\, businesses can implement a return that offers staff more flexibility\, while ensuring steps are taken to mitigate the potential spread of COVID-19. \nHowever\, the First Minister advised that a mass return to offices is “likely to set progress back”\, and recommended a more phased return. The Finance Secretary\, Kate Forbes\, also confirmed there would be no fixed timetable for when all staff should return to offices. \nThese measures were announced in the First Minister’s address to Scottish Parliament on Tuesday 25th January\, which is available to watch on the Scottish Parliament website\, with a transcript also available. \nFor further information\, please visit the Scottish Government website.
URL:https://www.cvsfalkirk.org.uk/event/covid-19-update-hybrid-working-in-scotland/
END:VEVENT
END:VCALENDAR