BEGIN:VCALENDAR
VERSION:2.0
PRODID:-//CVS Falkirk - ECPv5.16.3.1//NONSGML v1.0//EN
CALSCALE:GREGORIAN
METHOD:PUBLISH
X-WR-CALNAME:CVS Falkirk
X-ORIGINAL-URL:https://www.cvsfalkirk.org.uk
X-WR-CALDESC:Events for CVS Falkirk
BEGIN:VTIMEZONE
TZID:Europe/London
BEGIN:DAYLIGHT
TZOFFSETFROM:+0000
TZOFFSETTO:+0100
TZNAME:BST
DTSTART:20200329T010000
END:DAYLIGHT
BEGIN:STANDARD
TZOFFSETFROM:+0100
TZOFFSETTO:+0000
TZNAME:GMT
DTSTART:20201025T010000
END:STANDARD
END:VTIMEZONE
BEGIN:VEVENT
DTSTART;TZID=Europe/London:20201014T150000
DTEND;TZID=Europe/London:20201014T170000
DTSTAMP:20260422T192304
CREATED:20201009T161452Z
LAST-MODIFIED:20201009T161452Z
UID:18474-1602687600-1602694800@www.cvsfalkirk.org.uk
SUMMARY:COVID-19 Third Sector Response Forum: October Meeting
DESCRIPTION:During the current COVID-19 pandemic\, all third sector forums held at our office are cancelled until further notice. \nInstead\, the next meeting of the online COVID-19 Third Sector Response Forum takes place on Wednesday 14th October\, 3pm – 5pm\, and can be accessed via the Zoom link\, or with the meeting ID: 963 2261 5679 (password: 171199). \nThe meetings are currently focusing on recovery and renewal. Minutes of previous meetings are available on the dedicated forum webpage\, along with any additional documentation. \nFor further information\, or be added to the COVID-19 Third Sector Response Forum mailing list\, please contact Scott Malcolm by email: Scott.Malcolm@cvsfalkirk.org.uk
URL:https://www.cvsfalkirk.org.uk/event/covid-19-third-sector-response-forum-october-meeting/
ORGANIZER;CN="CVS%20Falkirk%20%26%20District":MAILTO:info@cvsfalkirk.org.uk
END:VEVENT
END:VCALENDAR