BEGIN:VCALENDAR
VERSION:2.0
PRODID:-//CVS Falkirk - ECPv5.16.3.1//NONSGML v1.0//EN
CALSCALE:GREGORIAN
METHOD:PUBLISH
X-WR-CALNAME:CVS Falkirk
X-ORIGINAL-URL:https://www.cvsfalkirk.org.uk
X-WR-CALDESC:Events for CVS Falkirk
BEGIN:VTIMEZONE
TZID:Europe/London
BEGIN:DAYLIGHT
TZOFFSETFROM:+0000
TZOFFSETTO:+0100
TZNAME:BST
DTSTART:20260329T010000
END:DAYLIGHT
BEGIN:STANDARD
TZOFFSETFROM:+0100
TZOFFSETTO:+0000
TZNAME:GMT
DTSTART:20261025T010000
END:STANDARD
END:VTIMEZONE
BEGIN:VEVENT
DTSTART;TZID=Europe/London:20260514T100000
DTEND;TZID=Europe/London:20260514T120000
DTSTAMP:20260422T191521
CREATED:20260422T140426Z
LAST-MODIFIED:20260422T140426Z
UID:39059-1778752800-1778760000@www.cvsfalkirk.org.uk
SUMMARY:Connecting Volunteering Network: May 2026 Meeting
DESCRIPTION:Join CVS Falkirk & District for our upcoming Connecting Volunteering Network meeting on Thursday 14 May 2026\, 10am – 12pm\, at the Falkirk Fire Station Community Room\, Westfield\, Falkirk\, FK2 9AH. \nThe network is for anyone involved in supporting or managing volunteers and provides a space to meet\, discuss topics relevant to volunteering within the third-sector\, network and share experiences – the biggest benefit of the meeting! The theme for this meeting will be “Volunteers Week”\, looking at the different plans and celebrations taking place across Falkirk District to thank local volunteers. \nTo attend\, or for further information\, please contact the CVS Falkirk & District team by email: info@cvsfalkirk.org.uk
URL:https://www.cvsfalkirk.org.uk/event/connecting-volunteering-network-may-2026-meeting/
LOCATION:Falkirk Fire Station\, Westfield\, Falkirk\, FK2 9AH\, United Kingdom
ORGANIZER;CN="CVS%20Falkirk%20%26%20District":MAILTO:info@cvsfalkirk.org.uk
END:VEVENT
END:VCALENDAR