BEGIN:VCALENDAR
VERSION:2.0
PRODID:-//CVS Falkirk - ECPv5.16.3.1//NONSGML v1.0//EN
CALSCALE:GREGORIAN
METHOD:PUBLISH
X-WR-CALNAME:CVS Falkirk
X-ORIGINAL-URL:https://www.cvsfalkirk.org.uk
X-WR-CALDESC:Events for CVS Falkirk
BEGIN:VTIMEZONE
TZID:Europe/London
BEGIN:DAYLIGHT
TZOFFSETFROM:+0000
TZOFFSETTO:+0100
TZNAME:BST
DTSTART:20230326T010000
END:DAYLIGHT
BEGIN:STANDARD
TZOFFSETFROM:+0100
TZOFFSETTO:+0000
TZNAME:GMT
DTSTART:20231029T010000
END:STANDARD
END:VTIMEZONE
BEGIN:VEVENT
DTSTART;TZID=Europe/London:20230208T103000
DTEND;TZID=Europe/London:20230208T120000
DTSTAMP:20260421T133707
CREATED:20230112T160900Z
LAST-MODIFIED:20230112T160900Z
UID:26098-1675852200-1675857600@www.cvsfalkirk.org.uk
SUMMARY:Care with Confidence – Frontotemporal Dementia: “Short Breaks”
DESCRIPTION:Falkirk and Clackmannanshire Carers Centre is bringing back their Care with Confidence sessions\, and Information Afternoons for Professionals\, with dates announced through to March\, including their Care with Confidence – Frontotemporal Dementia session. \nTaking place via Zoom and in-person at the Carers Centre\, 1A Bank Street\, Falkirk\, FK1 1NB\, these sessions are open to carers of people with a confirmed diagnosis of Frontotemporal Dementia (FTD))\, taking place on the dates below. \nThe monthly sessions provide information and support to carers in an informal setting; professionals are also invited on a regular basis to talk about the clinical\, social and legal aspects of care\, as noted below. \n\nWednesday 11th January\, 10:30am – 12pm: “Dementia\, Dentistry and Oral Health”\n\nEvelyn Kid from the Dental Action Plan Team will talk through things to consider when someone with dementia needs to visit the dentist\, and the ways carers can support their cared for person with their oral hygiene.\n\n\nWednesday 8th February\, 10:30am – 12pm: “Short Breaks”\n\nFor this session\, attendees will be joined by Lynda Wright from Falkirk Short Breaks Bureau\, who will outline what respite options are available and how any allocated budget can be used creatively to accommodate those living with FTD\, especially if their symptoms present differently and mean formal respite may not be an option.\n\n\nWednesday 8th March\, 10:30am – 12pm: “Speech & Language Therapy & FTD”\n\nFTD may affect a person’s ability to speak fluently\, and/or have difficulty swallowing. Forth Valley Royal Hospital’s team of Speech and Language Therapists (SALTs) will be attending the session to discuss how they assess difficulties with swallowing and communication. They can also offer support through swallowing and speech exercises\, dietary advice and changes to medication.\n\n\n\nTo book you place\, or for further information\, please contact Cath Brunton by phone: 07857 671347\, or email: catherinebrunton@centralcarers.co.uk \nAlternatively\, for further information\, view or download the sessions flyer.
URL:https://www.cvsfalkirk.org.uk/event/care-with-confidence-frontotemporal-dementia-short-breaks/
LOCATION:Falkirk and Clackmannanshire Carers Centre\, 1A Bank Street\, Falkirk\, FK1 1NB\, United Kingdom
END:VEVENT
END:VCALENDAR