BEGIN:VCALENDAR
VERSION:2.0
PRODID:-//CVS Falkirk - ECPv5.16.3.1//NONSGML v1.0//EN
CALSCALE:GREGORIAN
METHOD:PUBLISH
X-WR-CALNAME:CVS Falkirk
X-ORIGINAL-URL:https://www.cvsfalkirk.org.uk
X-WR-CALDESC:Events for CVS Falkirk
BEGIN:VTIMEZONE
TZID:Europe/London
BEGIN:DAYLIGHT
TZOFFSETFROM:+0000
TZOFFSETTO:+0100
TZNAME:BST
DTSTART:20250330T010000
END:DAYLIGHT
BEGIN:STANDARD
TZOFFSETFROM:+0100
TZOFFSETTO:+0000
TZNAME:GMT
DTSTART:20251026T010000
END:STANDARD
END:VTIMEZONE
BEGIN:VEVENT
DTSTART;TZID=Europe/London:20251108T103000
DTEND;TZID=Europe/London:20251108T143000
DTSTAMP:20260419T210640
CREATED:20251124T153823Z
LAST-MODIFIED:20251124T153823Z
UID:37516-1762597800-1762612200@www.cvsfalkirk.org.uk
SUMMARY:Antonine Café Winter Market
DESCRIPTION:Our neighbours Antonine Café in Callendar Business Park is holding a Winter Market on Saturday 8 November 2025\, 10:30am – 2:30pm. \n\n\n\nThe café is located in Antonine House\, Callendar Boulevard\, Callendar Business Park\, Falkirk\, FK1 1XE. Refreshments on the day will include the café’s own cakes\, scones\, and other baked goods\, with a stalls selling a range of handcrafted items\, including: \n\nbags\, cushions and soft furnishings\nhandmade gifts crafted by a local wood turner based in Grangemouth\nwax melts and home fragrances\nphotos and painted boards\npolymer clay and resin ceramics\ntree decorations and cake toppers\ncrystals\nhandmade bracelets (with all money raised going to Strathcarron Hospice)\n\nAntonine Café has donated all table fees from this event to Strathcarron Hospice\, who will also have its own stall selling knitted Christmas themed items. \nFor further information\, please view the Facebook post.
URL:https://www.cvsfalkirk.org.uk/event/antonine-cafe-winter-market/
LOCATION:Antonine Café\, Antonine House\, Callendar Boulevard\, Callendar Business Park\, Falkirk\, FK1 1XE\, United Kingdom
ORGANIZER;CN="Antonine%20Caf%C3%A9":MAILTO:info@antoninehub.com
END:VEVENT
END:VCALENDAR