BEGIN:VCALENDAR
VERSION:2.0
PRODID:-//CVS Falkirk - ECPv5.16.3.1//NONSGML v1.0//EN
CALSCALE:GREGORIAN
METHOD:PUBLISH
X-WR-CALNAME:CVS Falkirk
X-ORIGINAL-URL:https://www.cvsfalkirk.org.uk
X-WR-CALDESC:Events for CVS Falkirk
BEGIN:VTIMEZONE
TZID:Europe/London
BEGIN:DAYLIGHT
TZOFFSETFROM:+0000
TZOFFSETTO:+0100
TZNAME:BST
DTSTART:20220327T010000
END:DAYLIGHT
BEGIN:STANDARD
TZOFFSETFROM:+0100
TZOFFSETTO:+0000
TZNAME:GMT
DTSTART:20221030T010000
END:STANDARD
END:VTIMEZONE
BEGIN:VEVENT
DTSTART;TZID=Europe/London:20220706T103000
DTEND;TZID=Europe/London:20220706T120000
DTSTAMP:20260419T132519
CREATED:20220607T134721Z
LAST-MODIFIED:20220607T135841Z
UID:24257-1657103400-1657108800@www.cvsfalkirk.org.uk
SUMMARY:Adult Disability Payment Transfer Process Online Event
DESCRIPTION:Social Security Scotland is holding a series of free online events for stakeholders ahead of the process to transfer the awards of adults (living in Scotland) who currently receive the Disability Living Allowance from the Department for Work and Pensions (DWP). \nThe gradual case transfer process will begin this summer\, replacing the Allowance with the new Adult Disability Payment\, which will be administered by Social Security Scotland. \nEvents take place on: \n\nTuesday 28th June\, 10:30am – 12pm\nWednesday 6th July\, 10:30am – 12pm\nThursday 14th July\, 10:30am – 12pm\n\nA stakeholder is anyone with an interest or concern in something. The events are aimed at those who provide support people living with a disability\, long-term health condition or terminal illness\, who currently receive the Disability Living Allowance. \nThe events will provide attendees with information about the case transfer process\, including: \n\nan introduction to case transfers\nthe timeline for transfers\nthe end-to-end journey for people\nhow Social Security Scotland will communicate with people throughout this process\n\nDuring these events\, attendees will also have the opportunity to ask questions of the case transfer policy leads. \nPlease Note: these events specifically relate to the transfer process from Disability Living Allowance to Adult Disability Payment for people who were born after 8th April 1948\, and who: \n\nreport a change of circumstance to their disability or health condition\nare in receipt of an award of Disability Living Allowance that is due to end or be renewed after the launch of Adult Disability Payment\nask to have their award moved to Adult Disability Payment\n\nTo book your place at any event\, or for further information\, please visit the Social Security Scotland website.
URL:https://www.cvsfalkirk.org.uk/event/adult-disability-payment-transfer-process-online-event-2/
END:VEVENT
END:VCALENDAR